BEGIN:VCALENDAR
VERSION:2.0
PRODID:-//My Calendar//http://www.joedolson.com//v3.2.17//EN
METHOD:PUBLISH
CALSCALE:GREGORIAN
X-WR-CALNAME:Towarzystwo Przyjaciół Dzieci Uzdolnionych Artystycznie „NONA”
X-PUBLISHED-TTL:PT24H
REFRESH-INTERVAL;VALUE=DURATION:PT24H
X-WR-CALDESC:Events from Towarzystwo Przyjaciół Dzieci Uzdolnionych Artystycznie „NONA”
BEGIN:VEVENT
UID:7-6
LOCATION:
SUMMARY:Zerówka muzyczna - zebranie organizacyjne
DTSTAMP:20200902T000000
ORGANIZER;CN=Laura:MAILTO:m.boguslawski@tpduanona.pl
DTSTART;TZID=Europe/Warsaw:20200902T000000
DTEND;TZID=Europe/Warsaw:20200903T000000
URL;VALUE=URI:https://nona.wroclaw.pl/my-calendar/
DESCRIPTION: 
CATEGORIES:General
X-FUNAMBOL-ALLDAY: 1
X-MICROSOFT-CDO-ALLDAYEVENT: TRUE

END:VEVENT
BEGIN:VEVENT
UID:6-5
LOCATION:
SUMMARY:WALNE ZEBRANIE CZŁONKÓW STOWARZYSZENIA TPDUA „NONA”
DTSTAMP:20190219T174500
ORGANIZER;CN=Laura:MAILTO:m.boguslawski@tpduanona.pl
DTSTART;TZID=Europe/Warsaw:20190219T174500
DTEND;TZID=Europe/Warsaw:20190219T184500
URL;VALUE=URI:https://nona.wroclaw.pl/my-calendar/
DESCRIPTION: 
CATEGORIES:1
END:VEVENT
BEGIN:VEVENT
UID:5-4
LOCATION:
SUMMARY:Ferie zimowe
DTSTAMP:20190127T000000
ORGANIZER;CN=Laura:MAILTO:m.boguslawski@tpduanona.pl
DTSTART;TZID=Europe/Warsaw:20190127T000000
DTEND;TZID=Europe/Warsaw:20190211T000000
URL;VALUE=URI:https://nona.wroclaw.pl/my-calendar/
DESCRIPTION: 
CATEGORIES:1
X-FUNAMBOL-ALLDAY: 1
X-MICROSOFT-CDO-ALLDAYEVENT: TRUE

END:VEVENT
BEGIN:VEVENT
UID:3-3
LOCATION:
SUMMARY:Zerówka Muzyczna - zebranie organizacyjne
DTSTAMP:20180903T150000
ORGANIZER;CN=Laura:MAILTO:m.boguslawski@tpduanona.pl
DTSTART;TZID=Europe/Warsaw:20180903T150000
DTEND;TZID=Europe/Warsaw:20180903T200000
URL;VALUE=URI:https://nona.wroclaw.pl/my-calendar/
DESCRIPTION:W dniu 03 września (poniedziałek) odbędzie się obowiązkowe spotkanie organizacyjne dla rodziców/opiekunów przyjętych dzieci.Prosimy o przybycie na godzinę zgodną z wybraną grupą.Spotkanie odbędzie się w budynku przy al. Wiśniowej 81, sala 102. 
CATEGORIES:1
END:VEVENT
BEGIN:VEVENT
UID:2-2
LOCATION:
SUMMARY:Ferie Świąteczne
DTSTAMP:20151223T235900
ORGANIZER;CN=Laura:MAILTO:m.boguslawski@tpduanona.pl
DTSTART;TZID=Europe/Warsaw:20151223T235900
DTEND;TZID=Europe/Warsaw:20160103T235900
URL;VALUE=URI:https://nona.wroclaw.pl/my-calendar/
DESCRIPTION:Ferie Świąteczne - w tych dniach nie odbywają się zajęcia w Ognisku Muzycznym oraz w Zerówce Muzycznej 
CATEGORIES:1
END:VEVENT
END:VCALENDAR